BEGIN:VCALENDAR
VERSION:2.0
PRODID:-//eventon.com NONSGML v1.0//EN
CALSCALE:GREGORIAN
METHOD:PUBLISH
BEGIN:VEVENT
UID:69e182669f92e
DTSTAMP:20260417T004422Z
DTSTART:20260717T094100Z
DTEND:20260727T094100Z
LOCATION:
SUMMARY:Summer Vacation In Iraq
DESCRIPTION:\nhttps://alavitravel.com/events/summer-vacation-in-iraq/
URL:https://alavitravel.com/events/summer-vacation-in-iraq/
END:VEVENT
END:VCALENDAR