BEGIN:VCALENDAR
VERSION:2.0
PRODID:-//eventon.com NONSGML v1.0//EN
CALSCALE:GREGORIAN
METHOD:PUBLISH
BEGIN:VEVENT
UID:69e182648d35d
DTSTAMP:20260417T004420Z
DTSTART:20260618T093100Z
DTEND:20260630T093100Z
LOCATION:
SUMMARY:Ashura in Iraq 2026
DESCRIPTION:\nhttps://alavitravel.com/events/ashura-in-iraq-2026/
URL:https://alavitravel.com/events/ashura-in-iraq-2026/
END:VEVENT
END:VCALENDAR