BEGIN:VCALENDAR
VERSION:2.0
PRODID:-//eventon.com NONSGML v1.0//EN
CALSCALE:GREGORIAN
METHOD:PUBLISH
BEGIN:VEVENT
UID:69e18268a661c
DTSTAMP:20260417T004424Z
DTSTART:20260727T150000Z
DTEND:20260811T150000Z
LOCATION:
SUMMARY:ARBAEEN 2026
DESCRIPTION:\nhttps://alavitravel.com/events/arbaeen-2026/
URL:https://alavitravel.com/events/arbaeen-2026/
END:VEVENT
END:VCALENDAR