BEGIN:VCALENDAR
VERSION:2.0
PRODID:-//eventon.com NONSGML v1.0//EN
CALSCALE:GREGORIAN
METHOD:PUBLISH
BEGIN:VEVENT
UID:69e1825e8d03a
DTSTAMP:20260417T004414Z
DTSTART:20260522T095700Z
DTEND:20260531T095700Z
LOCATION:
SUMMARY:ARAFAH & EID AL ADHA IN KARBALA
DESCRIPTION:\nhttps://alavitravel.com/events/arafah-eid-al-adha-in-karbala/
URL:https://alavitravel.com/events/arafah-eid-al-adha-in-karbala/
END:VEVENT
END:VCALENDAR