BEGIN:VCALENDAR
VERSION:2.0
PRODID:-//eventon.com NONSGML v1.0//EN
CALSCALE:GREGORIAN
METHOD:PUBLISH
BEGIN:VEVENT
UID:69e18260831a6
DTSTAMP:20260417T004416Z
DTSTART:20260530T000300Z
DTEND:20260612T000300Z
LOCATION:
SUMMARY:Eid Ghadeer Najaf and Eid Mubahila in Kazmain
DESCRIPTION:\nhttps://alavitravel.com/events/eid-ghadeer-najaf-and-eid-muba
 hila-in-kazmain/
URL:https://alavitravel.com/events/eid-ghadeer-najaf-and-eid-mubahila-in-kazmain/
END:VEVENT
END:VCALENDAR