BEGIN:VCALENDAR
VERSION:2.0
PRODID:-//eventon.com NONSGML v1.0//EN
CALSCALE:GREGORIAN
METHOD:PUBLISH
BEGIN:VEVENT
UID:69e18262982ec
DTSTAMP:20260417T004418Z
DTSTART:20260530T000500Z
DTEND:20260608T000500Z
LOCATION:
SUMMARY:Eid Ghadeer - Greatest Eid in Najaf
DESCRIPTION:\nhttps://alavitravel.com/events/eid-ghadeer-greatest-eid-in-na
 jaf/
URL:https://alavitravel.com/events/eid-ghadeer-greatest-eid-in-najaf/
END:VEVENT
END:VCALENDAR